BEGIN:VCALENDAR
VERSION:2.0
PRODID:-//NOORTE- ja LASTELEHT - ECPv5.12.1//NONSGML v1.0//EN
CALSCALE:GREGORIAN
METHOD:PUBLISH
X-WR-CALNAME:NOORTE- ja LASTELEHT
X-ORIGINAL-URL:https://lasteleht.raplakrk.ee
X-WR-CALDESC:Events for NOORTE- ja LASTELEHT
BEGIN:VTIMEZONE
TZID:Europe/Tallinn
BEGIN:DAYLIGHT
TZOFFSETFROM:+0200
TZOFFSETTO:+0300
TZNAME:EEST
DTSTART:20190331T010000
END:DAYLIGHT
BEGIN:STANDARD
TZOFFSETFROM:+0300
TZOFFSETTO:+0200
TZNAME:EET
DTSTART:20191027T010000
END:STANDARD
END:VTIMEZONE
BEGIN:VEVENT
DTSTART;TZID=Europe/Tallinn:20190910T173000
DTEND;TZID=Europe/Tallinn:20190910T183000
DTSTAMP:20260425T204749
CREATED:20190902T111034Z
LAST-MODIFIED:20190902T111034Z
UID:1813-1568136600-1568140200@lasteleht.raplakrk.ee
SUMMARY:Muinasjutuõhtu
DESCRIPTION:
URL:https://lasteleht.raplakrk.ee/event/muinasjutuohtu-7/
LOCATION:Rapla Keskraamatukogu\, Eesti
END:VEVENT
END:VCALENDAR