BEGIN:VCALENDAR
VERSION:2.0
PRODID:-//NOORTE- ja LASTELEHT - ECPv5.12.1//NONSGML v1.0//EN
CALSCALE:GREGORIAN
METHOD:PUBLISH
X-WR-CALNAME:NOORTE- ja LASTELEHT
X-ORIGINAL-URL:https://lasteleht.raplakrk.ee
X-WR-CALDESC:Events for NOORTE- ja LASTELEHT
BEGIN:VTIMEZONE
TZID:Europe/Tallinn
BEGIN:DAYLIGHT
TZOFFSETFROM:+0200
TZOFFSETTO:+0300
TZNAME:EEST
DTSTART:20200329T010000
END:DAYLIGHT
BEGIN:STANDARD
TZOFFSETFROM:+0300
TZOFFSETTO:+0200
TZNAME:EET
DTSTART:20201025T010000
END:STANDARD
END:VTIMEZONE
BEGIN:VEVENT
DTSTART;TZID=Europe/Tallinn:20200114T173000
DTEND;TZID=Europe/Tallinn:20200114T183000
DTSTAMP:20260425T142526
CREATED:20200102T093527Z
LAST-MODIFIED:20200102T093527Z
UID:1965-1579023000-1579026600@lasteleht.raplakrk.ee
SUMMARY:Muinasjutuõhtu
DESCRIPTION:
URL:https://lasteleht.raplakrk.ee/event/muinasjutuohtu-9/
END:VEVENT
END:VCALENDAR