BEGIN:VCALENDAR
VERSION:2.0
PRODID:-//NOORTE- ja LASTELEHT - ECPv5.12.1//NONSGML v1.0//EN
CALSCALE:GREGORIAN
METHOD:PUBLISH
X-WR-CALNAME:NOORTE- ja LASTELEHT
X-ORIGINAL-URL:https://lasteleht.raplakrk.ee
X-WR-CALDESC:Events for NOORTE- ja LASTELEHT
BEGIN:VTIMEZONE
TZID:Europe/Tallinn
BEGIN:DAYLIGHT
TZOFFSETFROM:+0200
TZOFFSETTO:+0300
TZNAME:EEST
DTSTART:20200329T010000
END:DAYLIGHT
BEGIN:STANDARD
TZOFFSETFROM:+0300
TZOFFSETTO:+0200
TZNAME:EET
DTSTART:20201025T010000
END:STANDARD
END:VTIMEZONE
BEGIN:VEVENT
DTSTART;TZID=Europe/Tallinn:20201006T173000
DTEND;TZID=Europe/Tallinn:20201006T180000
DTSTAMP:20260424T230837
CREATED:20200929T093245Z
LAST-MODIFIED:20200929T093245Z
UID:2273-1602005400-1602007200@lasteleht.raplakrk.ee
SUMMARY:Nukuetendus "Jänes Julgepüks"
DESCRIPTION:Muinasjutuõhtu raames
URL:https://lasteleht.raplakrk.ee/event/nukuetendus-janes-julgepuks/
LOCATION:Rapla Keskraamatukogu\, Eesti
END:VEVENT
END:VCALENDAR