BEGIN:VCALENDAR
VERSION:2.0
PRODID:-//NOORTE- ja LASTELEHT - ECPv5.12.1//NONSGML v1.0//EN
CALSCALE:GREGORIAN
METHOD:PUBLISH
X-WR-CALNAME:NOORTE- ja LASTELEHT
X-ORIGINAL-URL:https://lasteleht.raplakrk.ee
X-WR-CALDESC:Events for NOORTE- ja LASTELEHT
BEGIN:VTIMEZONE
TZID:Europe/Tallinn
BEGIN:DAYLIGHT
TZOFFSETFROM:+0200
TZOFFSETTO:+0300
TZNAME:EEST
DTSTART:20200329T010000
END:DAYLIGHT
BEGIN:STANDARD
TZOFFSETFROM:+0300
TZOFFSETTO:+0200
TZNAME:EET
DTSTART:20201025T010000
END:STANDARD
END:VTIMEZONE
BEGIN:VEVENT
DTSTART;VALUE=DATE:20201207
DTEND;VALUE=DATE:20201219
DTSTAMP:20260424T193351
CREATED:20201204T140147Z
LAST-MODIFIED:20201204T140158Z
UID:2441-1607299200-1608335999@lasteleht.raplakrk.ee
SUMMARY:Jõuluhommikud lastele
DESCRIPTION:7.\, 9.\, 10.\, 11.\, 14.\, 15.\, 17.\, 18. detsembril kell 9.00 \nJõuluhommikud toimuvad eelneval kokkuleppel.
URL:https://lasteleht.raplakrk.ee/event/muinasjutuhommikud-lastele/
END:VEVENT
END:VCALENDAR