BEGIN:VCALENDAR
VERSION:2.0
PRODID:-//NOORTE- ja LASTELEHT - ECPv5.12.1//NONSGML v1.0//EN
CALSCALE:GREGORIAN
METHOD:PUBLISH
X-WR-CALNAME:NOORTE- ja LASTELEHT
X-ORIGINAL-URL:https://lasteleht.raplakrk.ee
X-WR-CALDESC:Events for NOORTE- ja LASTELEHT
BEGIN:VTIMEZONE
TZID:Europe/Tallinn
BEGIN:DAYLIGHT
TZOFFSETFROM:+0200
TZOFFSETTO:+0300
TZNAME:EEST
DTSTART:20210328T010000
END:DAYLIGHT
BEGIN:STANDARD
TZOFFSETFROM:+0300
TZOFFSETTO:+0200
TZNAME:EET
DTSTART:20211031T010000
END:STANDARD
END:VTIMEZONE
BEGIN:VEVENT
DTSTART;TZID=Europe/Tallinn:20210727T130000
DTEND;TZID=Europe/Tallinn:20210727T140000
DTSTAMP:20260423T170004
CREATED:20210712T111855Z
LAST-MODIFIED:20210712T112132Z
UID:2627-1627390800-1627394400@lasteleht.raplakrk.ee
SUMMARY:Raamatupiknik eelkooliealistele ja algklasside lastele
DESCRIPTION:27. juulil kell 13.00\, ootame Rapla Keskraamatukogu õuealale eelkooliealisi ja algklasside lapsi. Toimub suvine raamatu ettelugemine. Ajame juttu ja kes soovib\, mängib keksu.
URL:https://lasteleht.raplakrk.ee/event/raamatupiknik-eelkooliealistele-ja-algklasside-lastele-3/
LOCATION:Rapla Keskraamatukogu\, Eesti
END:VEVENT
END:VCALENDAR